BEGIN:VCALENDAR
METHOD:PUBLISH
PRODID:-//doubleknot.com//CalenderEvent MIMEDIR//EN
VERSION:2.0
BEGIN:VEVENT
UID:3119502-20260715T170000Z-20260715T220000Z@doubleknot.com
CREATED:20250916T214131Z
LAST-MODIFIED:20250918T170423Z
DTSTAMP:20260425T170600Z
DTSTART:20260715T170000Z
DTEND:20260715T220000Z
LOCATION:Camp Wi-Wo-Ca, 37125 Pine Mesa Ct, Yucaipa, CA 92399, US
CATEGORIES:Camp Wi Wo Ca, GSSGC Available Events
DESCRIPTION:Dive into a water-filled day of summer fun! Splash through camp games, water activities, and cool-off challenges perfect for hot weather.  \n  \n  \n Don&rsquo;t forget your swimsuit and towel! This event is open to Girl Scouts and tagalongs for $20 per participant, and program aides for $5. \n 
SUMMARY:Wi-Wo-Ca Wednesday: Surf's Up
PRIORITY:5
BEGIN:VALARM
TRIGGER:PT15M
ACTION:DISPLAY
DESCRIPTION:Reminder
PRIORITY:5
END:VALARM
END:VEVENT
END:VCALENDAR
