BEGIN:VCALENDAR
METHOD:PUBLISH
PRODID:-//doubleknot.com//CalenderEvent MIMEDIR//EN
VERSION:2.0
BEGIN:VEVENT
UID:3118331-20260503T230000Z-20260504T003000Z@doubleknot.com
CREATED:20250909T174413Z
LAST-MODIFIED:20250909T231537Z
DTSTAMP:20260419T143608Z
DTSTART:20260503T230000Z
DTEND:20260504T003000Z
LOCATION:Camp Wi-Wo-Ca, 37125 Pine Mesa Ct, Yucaipa, CA 92399, US
CATEGORIES:Camp Wi Wo Ca, GSSGC Available Events
DESCRIPTION:Bring your teddy bear for an adorable evening at the fire.  \n  \n  \n We&rsquo;ll make sweet bear-inspired crafts, share stories, and have a cozy campfire night with our favorite stuffies. $15 per Girl Scout/tagalong and $5 per adult includes all activities and a yummy snack!  \n  \n  \n Open to Girl Scouts, tagalongs, and adults! \n 
SUMMARY:Wi-Wo-Ca Campfire Night: Beary Sweet Time
PRIORITY:5
BEGIN:VALARM
TRIGGER:PT15M
ACTION:DISPLAY
DESCRIPTION:Reminder
PRIORITY:5
END:VALARM
END:VEVENT
END:VCALENDAR
