BEGIN:VCALENDAR
METHOD:PUBLISH
PRODID:-//doubleknot.com//CalenderEvent MIMEDIR//EN
VERSION:2.0
BEGIN:VEVENT
UID:3015289-20240120T170000Z-20240120T230000Z@doubleknot.com
CREATED:20231012T210532Z
LAST-MODIFIED:20240117T190320Z
DTSTAMP:20260425T165811Z
DTSTART:20240120T170000Z
DTEND:20240120T230000Z
LOCATION:Hemet Scout House, 331 South Taylor Street ,Hemet, CA 92544, US
CATEGORIES:Southwest Program, Training
DESCRIPTION:Want to take your girls camping? You need to have this training. You will learn all the information needed to start camping. \n  \n  \n The online portion will introduce you to the safety requirements, paperwork and general progression of experiencing the out doors with your troop. The pass rate is 100% for the quiz. Be sure and download the BOT packet contained under the &quot;Additional References&quot; tab below. The live skill portion of BOT training will complete your certification. The online portion must be completed before the in-person skill session. \n  \n  \n Please bring water bottle for the day, a camp chair, a mess kit, wear appropriate shoes for outdoors activity with good traction, and dress in appropriate layered outdoor clothes. Please arrive 30 minutes before the scheduled start of the training for sign in and safety overview. \n  \n  \n Must Be Registered To Attend Class. Will Not Accept Walk-ins. Adult only course.  \n 
SUMMARY:BASIC OUTDOOR TRAINING- HEMET SCOUT HOUSE
PRIORITY:5
BEGIN:VALARM
TRIGGER:PT15M
ACTION:DISPLAY
DESCRIPTION:Reminder
PRIORITY:5
END:VALARM
END:VEVENT
END:VCALENDAR
